BEGIN:VCALENDAR
CALSCALE:GREGORIAN
VERSION:2.0
PRODID:-//Elixir ICalendar//Mobilizon 5.2.0//EN
BEGIN:VEVENT
ATTACH;FMTTYPE=image/jpeg:https://mobilizon.it/media/faaf1a8de8d855e692559186295e027d990cdd183754ff9038e8c1a789da0ab0.jpg?name=img-twc.jpg
CATEGORIES:techwork
DESCRIPTION:Martedì 28 aprile torniamo con il Logout di TWC Roma\, il ritrovo per tech workers che vogliono incontrarsi dopo il lavoro: un'occasione per socializzare\, conoscersi\, parlare del nostro lavoro e come organizzarci nei prossimi mesi!\n\nCi vediamo martedi 28 aprile\, dalle 18:30 alle 21:30\, alla Casa del Parco in Caffarella (ingresso largo Tacchi Venturi angolo Via Latina)\n\nE' raggiungibile a piedi dalla Metro A fermata Colli Albani.\n\nUnisciti ai gruppi Telegram Tech Workers Coalition !\n\nRoma\n\nhttps://t.me/twcroma\n\nItalia\n\nhttps://t.me/twcitagruppo\n\n
DTEND:20260428T193000Z
DTSTAMP:20260422T134339Z
DTSTART:20260428T163000Z
ORGANIZER:Tech Workers Coalition Italia
STATUS:CONFIRMED
SUMMARY:Log Out @ Roma
UID:e411e86a-2e04-445f-98f9-22c231113615
URL:https://mobilizon.it/events/e411e86a-2e04-445f-98f9-22c231113615
END:VEVENT
END:VCALENDAR
